BEGIN:VCALENDAR
VERSION:2.0
PRODID:-//SSV Taufers Tennis - ECPv6.14.1//NONSGML v1.0//EN
CALSCALE:GREGORIAN
METHOD:PUBLISH
X-WR-CALNAME:SSV Taufers Tennis
X-ORIGINAL-URL:https://www.ssv-taufers.it/tennis/en
X-WR-CALDESC:Events for SSV Taufers Tennis
REFRESH-INTERVAL;VALUE=DURATION:PT1H
X-Robots-Tag:noindex
X-PUBLISHED-TTL:PT1H
BEGIN:VTIMEZONE
TZID:Europe/Berlin
BEGIN:DAYLIGHT
TZOFFSETFROM:+0100
TZOFFSETTO:+0200
TZNAME:CEST
DTSTART:20250330T010000
END:DAYLIGHT
BEGIN:STANDARD
TZOFFSETFROM:+0200
TZOFFSETTO:+0100
TZNAME:CET
DTSTART:20251026T010000
END:STANDARD
END:VTIMEZONE
BEGIN:VEVENT
DTSTART;VALUE=DATE:20250807
DTEND;VALUE=DATE:20250810
DTSTAMP:20260424T174208
CREATED:20250802T125448Z
LAST-MODIFIED:20250802T134607Z
UID:39-1754524800-1754783999@www.ssv-taufers.it
SUMMARY:VSS Turnier
DESCRIPTION:Vom 07. bis 09. August startet das Jugendturnier U8-U19-U13-U18 in Sand in Taufers. Anmeldeschluss ist der 05.08.2025 12 Uhr. \n\n\n\n\ntennistaufers@gmail.com
URL:https://www.ssv-taufers.it/tennis/en/event/vss-turnier/
LOCATION:Tennisplatz Sand in Taufers\, Industriestrasse 21\, Sand in Taufers\, 39032\, Italy
CATEGORIES:Turnier
ATTACH;FMTTYPE=image/jpeg:https://www.ssv-taufers.it/tennis/wp-content/uploads/sites/3/2025/08/Turnier-2025.jpg
END:VEVENT
END:VCALENDAR